BEGIN:VCALENDAR
VERSION:2.0
PRODID:GIGPRESS 2.0 WORDPRESS PLUGIN
CALSCALE:GREGORIAN
X-WR-TIMEZONE:Etc/GMT
METHOD:PUBLISH
BEGIN:VTIMEZONE
TZID:GMT
BEGIN:STANDARD
DTSTART:20071028T010000
TZOFFSETTO:+0000
TZOFFSETFROM:+0000
END:STANDARD
END:VTIMEZONE
BEGIN:VEVENT
SUMMARY:atb at SVEREA
DESCRIPTION:Tour: THE FINAL CHAPTER WORLD TOUR PT. 1. 
LOCATION:SVEREA\, GDYNIA\, PL
UID:20261107-337-rudi.dittmann@ruhrtone.com
URL:https://atb-music.com/tour
DTSTART;VALUE=DATE;TZID=GMT:20261107
DTEND;VALUE=DATE;TZID=GMT:20261107
DTSTAMP:20260425T015741Z
END:VEVENT
END:VCALENDAR