BEGIN:VCALENDAR
VERSION:2.0
PRODID:GIGPRESS 2.0 WORDPRESS PLUGIN
CALSCALE:GREGORIAN
X-WR-TIMEZONE:Etc/GMT
METHOD:PUBLISH
BEGIN:VTIMEZONE
TZID:GMT
BEGIN:STANDARD
DTSTART:20071028T010000
TZOFFSETTO:+0000
TZOFFSETFROM:+0000
END:STANDARD
END:VTIMEZONE
BEGIN:VEVENT
SUMMARY:atb at VI ÄLKAR FESTIVAL
DESCRIPTION:Tour: THE FINAL CHAPTER WORLD TOUR PT. 1. 
LOCATION:VI ÄLKAR FESTIVAL\, STOCKHOLM\, SE
UID:20260626-342-rudi.dittmann@ruhrtone.com
URL:https://atb-music.com/tour
DTSTART;VALUE=DATE;TZID=GMT:20260626
DTEND;VALUE=DATE;TZID=GMT:20260626
DTSTAMP:20260425T015922Z
END:VEVENT
END:VCALENDAR